BEGIN:VCALENDAR
VERSION:2.0
PRODID:-//ExpressionEngine Easy iCalendar plugin//NONSGML v2.0.0//EN
X-WR-TIMEZONE:America/Denver
X-WR-CALNAME:Upcoming Auctions
BEGIN:VEVENT
UID:149699
DTSTAMP:20251118T090024
DTSTART:20251118T090024
DTEND:20251118T100024
SUMMARY:TRI BROTHERS Consignment (FALL 2025) Ring 2
LOCATION:6667 Road 51\, Torrington\, WY 82240\, US
DESCRIPTION:Contact Allen at 307-575-2427
URL:https://www.kerrauction.com/auctions/detail/bw149699
SEQUENCE:1
END:VEVENT
END:VCALENDAR