BEGIN:VCALENDAR
VERSION:2.0
PRODID:-//ExpressionEngine Easy iCalendar plugin//NONSGML v2.0.0//EN
X-WR-TIMEZONE:America/Chicago
X-WR-CALNAME:Upcoming Auctions
BEGIN:VEVENT
UID:141789
DTSTAMP:20250728T100000
DTSTART:20250728T100000
DTEND:20250728T110000
SUMMARY:Scott Markert Farm Retirement Sale
LOCATION:{location}
DESCRIPTION:Farm Retirement Sale!!
URL:https://www.kerrauction.com/auctions/detail/bw141789
SEQUENCE:1
END:VEVENT
END:VCALENDAR