BEGIN:VCALENDAR
VERSION:2.0
PRODID:-//ExpressionEngine Easy iCalendar plugin//NONSGML v2.0.0//EN
X-WR-TIMEZONE:America/Chicago
X-WR-CALNAME:Upcoming Auctions
BEGIN:VEVENT
UID:141371
DTSTAMP:20250819T090000
DTSTART:20250819T090000
DTEND:20250819T100000
SUMMARY:Kuhns Equipment Inventory Reduction Sale
LOCATION:1000 East Columbia st\, Arthur\, IL 61911\, US
DESCRIPTION:Kuhns Equipment Inventory Reduction Sale!!  Abe Kuhns start
 ed assembling and selling New Idea farm equipment underneath
  a shade tree in Arthur\, Illinois in 1956.  Today the Kuhns
  family manufactures\, sells\, and services farm equipment all
  over the United States.  Kuhns Equipment has expanded to s
 erve more than twelve counties in the east central Illinois 
 area from dealer locations in Arthur and Gibson City.
URL:https://www.kerrauction.com/auctions/detail/bw141371
SEQUENCE:1
END:VEVENT
END:VCALENDAR