BEGIN:VCALENDAR
VERSION:2.0
PRODID:-//ExpressionEngine Easy iCalendar plugin//NONSGML v2.0.0//EN
X-WR-TIMEZONE:America/Chicago
X-WR-CALNAME:Upcoming Auctions
BEGIN:VEVENT
UID:140533
DTSTAMP:20250726T223000
DTSTART:20250726T223000
DTEND:20250729T091500
SUMMARY:MT. Sterling Tool Sale Ring 1
LOCATION:684 1000N Ave\, Mount Sterling\, IL 62353\, US
DESCRIPTION: 1ST MT. STERLING TOOL SALE!!!  Have those shop related it
 ems taking up space?  Turn your excess collection into cash
 !!!  Hand tools\, power tools\, welders\, compressors to anvil
 s are open to consign. This event will be Online and Timed O
 NLY!!
URL:https://www.kerrauction.com/auctions/detail/bw140533
SEQUENCE:1
END:VEVENT
END:VCALENDAR