BEGIN:VCALENDAR
VERSION:2.0
PRODID:-//ExpressionEngine Easy iCalendar plugin//NONSGML v2.0.0//EN
X-WR-TIMEZONE:America/Chicago
X-WR-CALNAME:Upcoming Auctions
BEGIN:VEVENT
UID:134429
DTSTAMP:20250304T090000
DTSTART:20250304T090000
DTEND:20250304T100000
SUMMARY:Hokeness Farms Inventory Reduction Sale
LOCATION:23419 Edwards Ave\, Adrian\, MN 56110\, US
DESCRIPTION:Online Virtual Equipment Auction using Kerr Auction\, LEVEL\,
  ProxiBid and Equipment Facts.  This Auction will called l
 ive with online bidding ONLY!!  Lots will be available for 
 view prior to the sale.
URL:https://www.kerrauction.com/auctions/detail/bw134429
SEQUENCE:1
END:VEVENT
END:VCALENDAR