BEGIN:VCALENDAR
VERSION:2.0
PRODID:-//ExpressionEngine Easy iCalendar plugin//NONSGML v2.0.0//EN
X-WR-TIMEZONE:America/Chicago
X-WR-CALNAME:Upcoming Auctions
BEGIN:VEVENT
UID:133714
DTSTAMP:20250320T090000
DTSTART:20250320T090000
DTEND:20250320T100000
SUMMARY:2025 Mt. Sterling Spring Consignment Sale!
LOCATION:684 1000N Ave\, Mount Sterling\, IL 62353\, US
DESCRIPTION:CONSIGN TODAY!! LOCATION: Mount Sterling IL  START TIME: 9A
 M
URL:https://www.kerrauction.com/auctions/detail/bw133714
SEQUENCE:1
END:VEVENT
END:VCALENDAR