BEGIN:VCALENDAR
VERSION:2.0
PRODID:-//ExpressionEngine Easy iCalendar plugin//NONSGML v2.0.0//EN
X-WR-TIMEZONE:America/Chicago
X-WR-CALNAME:Upcoming Auctions
BEGIN:VEVENT
UID:126671
DTSTAMP:20241230T095700
DTSTART:20241230T095700
DTEND:20241230T105700
SUMMARY:Alma Center\, Wi Consignment Sale
LOCATION:356 WIS-95\, Alma Center\, WI 54611\, US
DESCRIPTION:Location: Alma Center\, Wisconsin Start Time: 10AM
URL:https://www.kerrauction.com/auctions/detail/bw126671
SEQUENCE:1
END:VEVENT
END:VCALENDAR